BEGIN:VCALENDAR
VERSION:2.0
PRODID:-//hacksw/handcal//NONSGML v1.0//EN
CALSCALE:GREGORIAN
BEGIN:VEVENT
SUMMARY:Track Team Dinner - WRHS Cafeteria
DTSTART:20260423T213000Z
STATUS:CONFIRMED
UID:58tf3u0u17ovvnb0d8sng6an6m@google.com
DTSTAMP:20260421T094321Z
LOCATION:Washburn Rural High School\, 5900 SW 61st St\, Topeka\, KS 66619\, USA\, Washburn Rural High School-1-WRHS Student Cafeteria (700)
DTEND:20260423T230000Z
END:VEVENT
END:VCALENDAR