BEGIN:VCALENDAR
VERSION:2.0
PRODID:-//hacksw/handcal//NONSGML v1.0//EN
CALSCALE:GREGORIAN
BEGIN:VEVENT
SUMMARY:Summer Cleaning Meeting 
DTSTART:20260521T170000Z
STATUS:CONFIRMED
UID:53q2pdftk4oq57g694rqqlb57k@google.com
DTSTAMP:20260421T093620Z
LOCATION:Design Think Area 
DTEND:20260521T200000Z
END:VEVENT
END:VCALENDAR