BEGIN:VCALENDAR
VERSION:2.0
PRODID:-//hacksw/handcal//NONSGML v1.0//EN
CALSCALE:GREGORIAN
BEGIN:VEVENT
SUMMARY:Staff Year End Celebration
DTSTART:20260513T194500Z
STATUS:CONFIRMED
UID:4gcva393usdsumijm89m6q68f2@google.com
DTSTAMP:20260421T093620Z
LOCATION:Washburn Rural High School-1-WRHS Student Cafeteria (700)
DTEND:20260513T204500Z
END:VEVENT
END:VCALENDAR