BEGIN:VCALENDAR
VERSION:2.0
PRODID:-//hacksw/handcal//NONSGML v1.0//EN
CALSCALE:GREGORIAN
BEGIN:VEVENT
SUMMARY:Senior Sunrise 
DTSTART:20260428T111500Z
STATUS:CONFIRMED
UID:3dqjp2hpvcdhenf5md3s152jqj@google.com
DTSTAMP:20260421T093933Z
LOCATION:Football Field 
DTEND:20260428T124500Z
END:VEVENT
END:VCALENDAR