BEGIN:VCALENDAR
VERSION:2.0
PRODID:-//hacksw/handcal//NONSGML v1.0//EN
CALSCALE:GREGORIAN
BEGIN:VEVENT
SUMMARY:Senior Movie 
DTSTART:20260501T010000Z
STATUS:CONFIRMED
UID:2jk5rg40ed49iarhg41doda49i@google.com
DTSTAMP:20260421T094136Z
LOCATION:Library
DTEND:20260501T030000Z
END:VEVENT
END:VCALENDAR