BEGIN:VCALENDAR
VERSION:2.0
PRODID:-//hacksw/handcal//NONSGML v1.0//EN
CALSCALE:GREGORIAN
BEGIN:VEVENT
SUMMARY:Senior FieldDay
DTSTART:20260429T170000Z
STATUS:CONFIRMED
UID:2i5vb47cvvfuaucjvkk8eltom1@google.com
DTSTAMP:20260421T093900Z
LOCATION:Field West of Soccer / McElroy Fieldhouse 
DTEND:20260429T200000Z
END:VEVENT
END:VCALENDAR