BEGIN:VCALENDAR
VERSION:2.0
PRODID:-//hacksw/handcal//NONSGML v1.0//EN
CALSCALE:GREGORIAN
BEGIN:VEVENT
SUMMARY:Soccer Team Dinner 
DTSTART:20260422T220000Z
STATUS:CONFIRMED
UID:1fn5g7vikom9numkaomh63tvts@google.com
DTSTAMP:20260421T093947Z
LOCATION:Washburn Rural High School-1-WRHS Student Cafeteria (700)
DTEND:20260423T000000Z
END:VEVENT
END:VCALENDAR