BEGIN:VCALENDAR
VERSION:2.0
PRODID:-//hacksw/handcal//NONSGML v1.0//EN
CALSCALE:GREGORIAN
BEGIN:VEVENT
SUMMARY:IH Parent Information Night
DTSTART:20260825T220000Z
STATUS:CONFIRMED
UID:7m2v4lhankd348errfgtrtv2do@google.com
DTSTAMP:20260425T004119Z
DTEND:20260825T223000Z
END:VEVENT
END:VCALENDAR