BEGIN:VCALENDAR
VERSION:2.0
PRODID:-//hacksw/handcal//NONSGML v1.0//EN
CALSCALE:GREGORIAN
BEGIN:VEVENT
SUMMARY:IH Fall Picture Day
DTSTART;VALUE=DATE:20260922
STATUS:CONFIRMED
UID:6tjde87dp0imh5fdvfmvjn105m@google.com
DTSTAMP:20260425T020429Z
DTEND;VALUE=DATE:20260923
END:VEVENT
END:VCALENDAR