BEGIN:VCALENDAR
VERSION:2.0
PRODID:-//hacksw/handcal//NONSGML v1.0//EN
CALSCALE:GREGORIAN
BEGIN:VEVENT
SUMMARY:IH PTO Meeting
DTSTART:20270413T230000Z
STATUS:CONFIRMED
UID:5jha7a871sjllpnckadpgbeqvk@google.com
DTSTAMP:20260425T133233Z
DTEND:20270414T000000Z
END:VEVENT
END:VCALENDAR