BEGIN:VCALENDAR
VERSION:2.0
PRODID:-//hacksw/handcal//NONSGML v1.0//EN
CALSCALE:GREGORIAN
BEGIN:VEVENT
SUMMARY:IH Field Day
DTSTART;VALUE=DATE:20270517
STATUS:CONFIRMED
UID:4knqjf54rd5e0jocs3ovsmbg37@google.com
DTSTAMP:20260425T151417Z
DTEND;VALUE=DATE:20270518
END:VEVENT
END:VCALENDAR