BEGIN:VCALENDAR
VERSION:2.0
PRODID:-//hacksw/handcal//NONSGML v1.0//EN
CALSCALE:GREGORIAN
BEGIN:VEVENT
SUMMARY:IH Meet the Teacher Night 1st-5th
DTSTART:20260807T213000Z
STATUS:CONFIRMED
UID:4dfkhigf5bhdd9ul1l1udes1ab@google.com
DTSTAMP:20260425T003715Z
DTEND:20260807T230000Z
END:VEVENT
END:VCALENDAR