BEGIN:VCALENDAR
VERSION:2.0
PRODID:-//hacksw/handcal//NONSGML v1.0//EN
CALSCALE:GREGORIAN
BEGIN:VEVENT
SUMMARY:IH PTO Meeting
DTSTART:20260907T230000Z
STATUS:CONFIRMED
UID:3burdmngohtv5l1392jdgbplh8@google.com
DTSTAMP:20260425T020917Z
DTEND:20260908T000000Z
END:VEVENT
END:VCALENDAR