BEGIN:VCALENDAR
VERSION:2.0
PRODID:-//hacksw/handcal//NONSGML v1.0//EN
CALSCALE:GREGORIAN
BEGIN:VEVENT
SUMMARY:Ih 5th Grade Promotion
DTSTART:20270520T190000Z
STATUS:CONFIRMED
UID:3a5haf2vs4tf62ssftcod80u14@google.com
DTSTAMP:20260425T151144Z
DTEND:20270520T200000Z
END:VEVENT
END:VCALENDAR