BEGIN:VCALENDAR
VERSION:2.0
PRODID:-//hacksw/handcal//NONSGML v1.0//EN
CALSCALE:GREGORIAN
BEGIN:VEVENT
SUMMARY:IH Spring Picture Day
DTSTART;VALUE=DATE:20270323
STATUS:CONFIRMED
UID:36qd8u8lb9iroqa20rl3uekecr@google.com
DTSTAMP:20260425T114214Z
DTEND;VALUE=DATE:20270324
END:VEVENT
END:VCALENDAR