BEGIN:VCALENDAR
VERSION:2.0
PRODID:-//hacksw/handcal//NONSGML v1.0//EN
CALSCALE:GREGORIAN
BEGIN:VEVENT
SUMMARY:IH Career Day Grades 3rd-5th
DTSTART;VALUE=DATE:20270311
STATUS:CONFIRMED
UID:33ir1v3rgs9ev2sc023q2mejg2@google.com
DTSTAMP:20260425T114034Z
DTEND;VALUE=DATE:20270312
END:VEVENT
END:VCALENDAR