BEGIN:VCALENDAR
VERSION:2.0
PRODID:-//hacksw/handcal//NONSGML v1.0//EN
CALSCALE:GREGORIAN
BEGIN:VEVENT
SUMMARY:IH PTO Meeting
DTSTART:20260825T230000Z
STATUS:CONFIRMED
UID:2mdr2vdeftu3gnib92n62bbvct@google.com
DTSTAMP:20260425T004005Z
DTEND:20260826T000000Z
END:VEVENT
END:VCALENDAR