BEGIN:VCALENDAR
VERSION:2.0
PRODID:-//hacksw/handcal//NONSGML v1.0//EN
CALSCALE:GREGORIAN
BEGIN:VEVENT
SUMMARY:IH PTO Meeting
DTSTART:20260929T230000Z
STATUS:CONFIRMED
UID:28f1hofa2c6c8cukiij3km6irv@google.com
DTSTAMP:20260425T020917Z
DTEND:20260930T000000Z
END:VEVENT
END:VCALENDAR