BEGIN:VCALENDAR
VERSION:2.0
PRODID:-//hacksw/handcal//NONSGML v1.0//EN
CALSCALE:GREGORIAN
BEGIN:VEVENT
SUMMARY:IH Pancake Breakfast
DTSTART;VALUE=DATE:20261010
STATUS:CONFIRMED
UID:275jrltk70emd2ra4ndhhvvjin@google.com
DTSTAMP:20260425T033838Z
DTEND;VALUE=DATE:20261011
END:VEVENT
END:VCALENDAR