BEGIN:VCALENDAR
VERSION:2.0
PRODID:-//hacksw/handcal//NONSGML v1.0//EN
CALSCALE:GREGORIAN
BEGIN:VEVENT
SUMMARY:IH Parent Information Night K-2 4:
DTSTART:20260825T213000Z
STATUS:CONFIRMED
UID:1o57c14ts5vol6c3lm0haod5gh@google.com
DTSTAMP:20260425T004206Z
DTEND:20260825T220000Z
END:VEVENT
END:VCALENDAR