BEGIN:VCALENDAR
VERSION:2.0
PRODID:-//hacksw/handcal//NONSGML v1.0//EN
CALSCALE:GREGORIAN
BEGIN:VEVENT
SUMMARY:IH Kindergarten Program
DTSTART:20270514T200000Z
STATUS:CONFIRMED
UID:1chj2sakn87m3et7bb6ndeqoea@google.com
DTSTAMP:20260425T151140Z
DTEND:20270514T210000Z
END:VEVENT
END:VCALENDAR