BEGIN:VCALENDAR
VERSION:2.0
PRODID:-//hacksw/handcal//NONSGML v1.0//EN
CALSCALE:GREGORIAN
BEGIN:VEVENT
SUMMARY:IH Talent Show
DTSTART:20270521T140000Z
STATUS:CONFIRMED
UID:0l946ocdtvtngo1m026n27nfk7@google.com
DTSTAMP:20260425T151252Z
DTEND:20270521T150000Z
END:VEVENT
END:VCALENDAR