BEGIN:VCALENDAR
VERSION:2.0
PRODID:-//hacksw/handcal//NONSGML v1.0//EN
CALSCALE:GREGORIAN
BEGIN:VEVENT
SUMMARY:IH Halloween Parade 
DTSTART:20261030T191500Z
STATUS:CONFIRMED
UID:0d37hbmfp23fvnue58jmphq05f@google.com
DTSTAMP:20260425T034118Z
DTEND:20261030T193000Z
END:VEVENT
END:VCALENDAR