BEGIN:VCALENDAR
VERSION:2.0
PRODID:-//hacksw/handcal//NONSGML v1.0//EN
CALSCALE:GREGORIAN
BEGIN:VEVENT
SUMMARY:IH PTO Meeting
DTSTART:20270310T000000Z
STATUS:CONFIRMED
UID:07r6h61rudnesdokeeicia0uf0@google.com
DTSTAMP:20260425T114345Z
DTEND:20270310T010000Z
END:VEVENT
END:VCALENDAR