BEGIN:VCALENDAR
VERSION:2.0
PRODID:-//hacksw/handcal//NONSGML v1.0//EN
CALSCALE:GREGORIAN
BEGIN:VEVENT
SUMMARY:IH Halloween Parties
DTSTART:20261030T193000Z
STATUS:CONFIRMED
UID:02662cnp8j8cji32hgac9bk5ng@google.com
DTSTAMP:20260425T034012Z
DTEND:20261030T203000Z
END:VEVENT
END:VCALENDAR